BEGIN:VCALENDAR
VERSION:2.0
PRODID:-//Birchwood Town Council//Meeting Calendar//EN
CALSCALE:GREGORIAN
METHOD:PUBLISH
BEGIN:VEVENT
UID:70879-20240326@birchwoodtowncouncil.gov.uk
DTSTAMP:20260419T135914Z
DTSTART;VALUE=DATE:20240326
DTEND;VALUE=DATE:20240327
SUMMARY:Part I Finance Meeting Minutes &#8211\\; 26th March 2024
DESCRIPTION:Finance, Budget and Precept Meeting\nView details: https://birchwoodtowncouncil.gov.uk/meetings/finance-meeting-26th-march-2024/
URL:https://birchwoodtowncouncil.gov.uk/meetings/finance-meeting-26th-march-2024/
END:VEVENT
END:VCALENDAR
