BEGIN:VCALENDAR
VERSION:2.0
PRODID:-//Birchwood Town Council//Meeting Calendar//EN
CALSCALE:GREGORIAN
METHOD:PUBLISH
BEGIN:VEVENT
UID:70836-20240423@birchwoodtowncouncil.gov.uk
DTSTAMP:20260419T141450Z
DTSTART;VALUE=DATE:20240423
DTEND;VALUE=DATE:20240424
SUMMARY:Part I Finance Meeting Minutes &#8211\\; 23rd April 2024
DESCRIPTION:Finance, Budget and Precept Meeting\nView details: https://birchwoodtowncouncil.gov.uk/meetings/meeting-name-here-2/
URL:https://birchwoodtowncouncil.gov.uk/meetings/meeting-name-here-2/
END:VEVENT
END:VCALENDAR
