BEGIN:VCALENDAR
VERSION:2.0
PRODID:-//Birchwood Town Council//Meeting Calendar//EN
CALSCALE:GREGORIAN
METHOD:PUBLISH
BEGIN:VEVENT
UID:70479-20240227@birchwoodtowncouncil.gov.uk
DTSTAMP:20260422T082804Z
DTSTART;VALUE=DATE:20240227
DTEND;VALUE=DATE:20240228
SUMMARY:Full Council Meeting Minutes &#8211\\; 27th February 2024
DESCRIPTION:Full Council Meeting\nView details: https://birchwoodtowncouncil.gov.uk/meetings/full-council-meeting-27th-february-2024/
URL:https://birchwoodtowncouncil.gov.uk/meetings/full-council-meeting-27th-february-2024/
END:VEVENT
END:VCALENDAR
